BEGIN:VCALENDAR
VERSION:2.0
PRODID:Demos (https://demonstrations.org)
BEGIN:VEVENT
CLASS:PUBLIC
DTSTAMP:20260422T122508Z
DESCRIPTION:Tiere raus aus Zoos
DTEND:20260425T120000Z
GEO:54.078056;12.130833
LAST-MODIFIED:20260422T122508Z
LOCATION:öffentliche Gehwegfläche am Barnstorfer Ring im Bereich des östlichen Zooeingangs
ORGANIZER;CN=Rathaus / Versammlungsbehörde Rostock:mailto:None
DTSTART:20260425T103000Z
SUMMARY:Tiere raus aus Zoos
TRANSP:OPAQUE
UID:00000000-0000-0000-0000-00000000e128
URL:https://rathaus.rostock.de/de/service/aemter/stadtamt/versammlungen/325429
END:VEVENT
END:VCALENDAR