BEGIN:VCALENDAR
VERSION:2.0
PRODID:Demos (https://demonstrations.org)
BEGIN:VEVENT
CLASS:PUBLIC
DTSTAMP:20260422T122507Z
DESCRIPTION:Energiewende-Demo: Reiche stoppen – Energiewende retten!
DTEND:20260424T160000Z
GEO:54.078056;12.130833
LAST-MODIFIED:20260422T122507Z
LOCATION:öffentliche Gehweg-Fläche des Kröpeliner-Tor-Vorplatzes
ORGANIZER;CN=Rathaus / Versammlungsbehörde Rostock:mailto:None
DTSTART:20260424T150000Z
SUMMARY:Energiewende-Demo: Reiche stoppen – Energiewende retten!
TRANSP:OPAQUE
UID:00000000-0000-0000-0000-00000000e127
URL:https://rathaus.rostock.de/de/service/aemter/stadtamt/versammlungen/325429
END:VEVENT
END:VCALENDAR