BEGIN:VCALENDAR
VERSION:2.0
PRODID:Demos (https://demonstrations.org)
BEGIN:VEVENT
CLASS:PUBLIC
DTSTAMP:20260422T120515Z
DESCRIPTION:Flaggenhissung zum Tag der lesbischen Sichtbarkeit
DTEND:20260424T163000Z
GEO:52.485097;13.344975
LAST-MODIFIED:20260422T120515Z
LOCATION:John-F.-Kennedy-Platz
ORGANIZER;CN=Versammlungsbehörde Berlin:mailto:None
DTSTART:20260424T160000Z
SUMMARY:Flaggenhissung zum Tag der lesbischen Sichtbarkeit
TRANSP:OPAQUE
UID:00000000-0000-0000-0000-00000000e114
URL:https://www.berlin.de/polizei/service/versammlungsbehoerde/versammlungen-aufzuege/
END:VEVENT
END:VCALENDAR