BEGIN:VCALENDAR
VERSION:2.0
PRODID:Demos (https://demonstrations.org)
BEGIN:VEVENT
CLASS:PUBLIC
DTSTAMP:20260422T120512Z
DESCRIPTION:Selbst und sicher mit dem Rad zur Schule - Straßen sind für alle da!
DTEND:20260424T080000Z
GEO:52.516266;13.377775
LAST-MODIFIED:20260422T120512Z
LOCATION:NEU: Reuterplatz - Reuterstr. - Weserstr. - Hobrechtstr. - Sonnenallee - Hermannplatz - Hasenheide - Südstern (ZK\, exklusive Fahrbahn zwischen Fontanepromenade und Südstern) - Blücherstr. - Fontanepromenade - Freiligrathstr. - Körtestr. - Urbanstr. - Blücherstr. - Brachvogelstr. - Waterloobrücke - Alexandrinenstr. - Ritterstr. - Ritterstr. 78 (Walddorfschule) ALT- : Reuterplatz - Weserstr. - Hobrechtstr. - Herrmannplatz - Hasenheide - Südstern (ZK auf der Mittelinsel vor der der Kirche) - Mittenwalder Str. - Alexandrinenstr. - Ritterstr. - Ritterstr. (EK Freie Waldorfschule Kreuzberg)
ORGANIZER;CN=Versammlungsbehörde Berlin:mailto:None
DTSTART:20260424T072000Z
SUMMARY:Selbst und sicher mit dem Rad zur Schule - Straßen sind für alle da!
TRANSP:OPAQUE
UID:00000000-0000-0000-0000-00000000e111
URL:https://www.berlin.de/polizei/service/versammlungsbehoerde/versammlungen-aufzuege/
END:VEVENT
END:VCALENDAR