BEGIN:VCALENDAR
VERSION:2.0
PRODID:Demos (https://demonstrations.org)
BEGIN:VEVENT
CLASS:PUBLIC
DTSTAMP:20260422T120511Z
DESCRIPTION:Tarifbewegung Vivantes Tochterunternehmen: TVöD für alle an der Spree
DTEND:20260423T090000Z
GEO:52.513129;13.440747
LAST-MODIFIED:20260422T120511Z
LOCATION:Franz-Mehring-Platz 1
ORGANIZER;CN=Versammlungsbehörde Berlin:mailto:None
DTSTART:20260423T080000Z
SUMMARY:Tarifbewegung Vivantes Tochterunternehmen: TVöD für alle an der Spree
TRANSP:OPAQUE
UID:00000000-0000-0000-0000-00000000e110
URL:https://www.berlin.de/polizei/service/versammlungsbehoerde/versammlungen-aufzuege/
END:VEVENT
END:VCALENDAR