BEGIN:VCALENDAR
VERSION:2.0
PRODID:Demos (https://demonstrations.org)
BEGIN:VEVENT
CLASS:PUBLIC
DTSTAMP:20260421T182507Z
DESCRIPTION:40. Jahrestag der Reaktorkatastrophe von Tschernobyl
DTEND:20260424T130000Z
GEO:54.087786;12.134264
LAST-MODIFIED:20260421T182507Z
LOCATION:öffentliche Gehweg- auf der Kröpeliner Straße im Bereich des Brunnens der Lebensfreude (Universitätsplatz)
ORGANIZER;CN=Rathaus / Versammlungsbehörde Rostock:mailto:None
DTSTART:20260424T110000Z
SUMMARY:40. Jahrestag der Reaktorkatastrophe von Tschernobyl
TRANSP:OPAQUE
UID:00000000-0000-0000-0000-00000000e102
URL:https://rathaus.rostock.de/de/service/aemter/stadtamt/versammlungen/325429
END:VEVENT
END:VCALENDAR