BEGIN:VCALENDAR
VERSION:2.0
PRODID:Demos (https://demonstrations.org)
BEGIN:VEVENT
CLASS:PUBLIC
DTSTAMP:20260421T182507Z
DESCRIPTION:Erhalt Straßenbahnlinie bis neuer Friedhof
DTEND:20260422T155000Z
GEO:54.078056;12.130833
LAST-MODIFIED:20260421T182507Z
LOCATION:öffentliche Gehweg-Fläche im Bereich Neuer Markt 1a
ORGANIZER;CN=Rathaus / Versammlungsbehörde Rostock:mailto:None
DTSTART:20260422T143000Z
SUMMARY:Erhalt Straßenbahnlinie bis neuer Friedhof
TRANSP:OPAQUE
UID:00000000-0000-0000-0000-00000000e101
URL:https://rathaus.rostock.de/de/service/aemter/stadtamt/versammlungen/325429
END:VEVENT
END:VCALENDAR