BEGIN:VCALENDAR
VERSION:2.0
PRODID:Demos (https://demonstrations.org)
BEGIN:VEVENT
CLASS:PUBLIC
DTSTAMP:20260421T120515Z
DESCRIPTION:Debanking stoppen! Solidarität mit dem BdA Treptow e.V.
DTEND:20260424T170000Z
GEO:52.520853;13.413997
LAST-MODIFIED:20260421T120515Z
LOCATION:Alexanderplatz 2
ORGANIZER;CN=Versammlungsbehörde Berlin:mailto:None
DTSTART:20260424T160000Z
SUMMARY:Debanking stoppen! Solidarität mit dem BdA Treptow e.V.
TRANSP:OPAQUE
UID:00000000-0000-0000-0000-00000000e0ef
URL:https://www.berlin.de/polizei/service/versammlungsbehoerde/versammlungen-aufzuege/
END:VEVENT
END:VCALENDAR