BEGIN:VCALENDAR
VERSION:2.0
PRODID:Demos (https://demonstrations.org)
BEGIN:VEVENT
CLASS:PUBLIC
DTSTAMP:20260421T120514Z
DESCRIPTION:Mahnwache für Verhandlungslösungen statt Krieg\, gegen Aufrüstung zu Lasten von Volkswirtschaft und Sozialstaat.
DTEND:20260423T083000Z
GEO:52.553552;13.323922
LAST-MODIFIED:20260421T120514Z
LOCATION:Kurt-Schumacher-Damm 41 | Es wurde der VA- Ort Charles- Corcelle- Ring/Charles- Corcelle- Ring (Grünfläche) zugewiesen.
ORGANIZER;CN=Versammlungsbehörde Berlin:mailto:None
DTSTART:20260423T073000Z
SUMMARY:Mahnwache für Verhandlungslösungen statt Krieg\, gegen Aufrüstung zu Lasten von Volkswirtschaft und S
TRANSP:OPAQUE
UID:00000000-0000-0000-0000-00000000e0ec
URL:https://www.berlin.de/polizei/service/versammlungsbehoerde/versammlungen-aufzuege/
END:VEVENT
END:VCALENDAR