BEGIN:VCALENDAR
VERSION:2.0
PRODID:Demos (https://demonstrations.org)
BEGIN:VEVENT
CLASS:PUBLIC
DTSTAMP:20260421T120514Z
DESCRIPTION:Freiheit für die Journalisten Ahmed und Eva!
DTEND:20260422T180000Z
GEO:52.499297;13.418014
LAST-MODIFIED:20260421T120514Z
LOCATION:Kottbusser Tor
ORGANIZER;CN=Versammlungsbehörde Berlin:mailto:None
DTSTART:20260422T170000Z
SUMMARY:Freiheit für die Journalisten Ahmed und Eva!
TRANSP:OPAQUE
UID:00000000-0000-0000-0000-00000000e0eb
URL:https://www.berlin.de/polizei/service/versammlungsbehoerde/versammlungen-aufzuege/
END:VEVENT
END:VCALENDAR