BEGIN:VCALENDAR
VERSION:2.0
PRODID:Demos (https://demonstrations.org)
BEGIN:VEVENT
CLASS:PUBLIC
DTSTAMP:20260421T000537Z
DESCRIPTION:Unfreundliche Begrüßung - Gegen Biedermeier*innen und Brandstifter*innen! Das Beste an Thüringen sind Demokrat*innen! Mit Brecht an der Seite\, An die Nachgeborenen: „Ihr aber\, lernet\, wie man sieht\, und nicht schwätzt. / Besonders: lernet\, wie man sieht\, und nicht schwätzt. / Handelt\, nicht wartet. / ..
DTEND:20260424T235900Z
GEO:52.592810;13.452625
LAST-MODIFIED:20260421T000537Z
LOCATION:Alt-Blankenburg 12A
ORGANIZER;CN=Versammlungsbehörde Berlin:mailto:None
DTSTART:20260424T174500Z
SUMMARY:Unfreundliche Begrüßung - Gegen Biedermeier*innen und Brandstifter*innen! Das Beste an Thüringen sin
TRANSP:OPAQUE
UID:00000000-0000-0000-0000-00000000e0c6
URL:https://www.berlin.de/polizei/service/versammlungsbehoerde/versammlungen-aufzuege/
END:VEVENT
END:VCALENDAR