BEGIN:VCALENDAR
VERSION:2.0
PRODID:Demos (https://demonstrations.org)
BEGIN:VEVENT
CLASS:PUBLIC
DTSTAMP:20260421T000536Z
DESCRIPTION:Schritttempolauf auf den verkehrsberuhigten Straßen im Klausenerplatz-Kiez (vom 02.10.2025 bis 25.06.2026 - jeweils Do.)
DTEND:20260423T183000Z
GEO:52.429258;13.164895
LAST-MODIFIED:20260421T000536Z
LOCATION:Kläre-Bloch-Platz - Knobelsdorffstr. - Danckelmannstr. - Seelingstr. - Nehringstr. - Christstr. - Danckelmannstr. - Knobelsdorffstr. - Kläre-Bloch-Platz
ORGANIZER;CN=Versammlungsbehörde Berlin:mailto:None
DTSTART:20260423T170000Z
SUMMARY:Schritttempolauf auf den verkehrsberuhigten Straßen im Klausenerplatz-Kiez (vom 02.10.2025 bis 25.06
TRANSP:OPAQUE
UID:00000000-0000-0000-0000-00000000e0c3
URL:https://www.berlin.de/polizei/service/versammlungsbehoerde/versammlungen-aufzuege/
END:VEVENT
END:VCALENDAR