BEGIN:VCALENDAR
VERSION:2.0
PRODID:Demos (https://demonstrations.org)
BEGIN:VEVENT
CLASS:PUBLIC
DTSTAMP:20260421T000536Z
DESCRIPTION:bunt statt braun
DTEND:20260423T160000Z
GEO:52.429797;13.327315
LAST-MODIFIED:20260421T000536Z
LOCATION:Jungfernstieg 4B
ORGANIZER;CN=Versammlungsbehörde Berlin:mailto:None
DTSTART:20260423T150000Z
SUMMARY:bunt statt braun
TRANSP:OPAQUE
UID:00000000-0000-0000-0000-00000000e0c2
URL:https://www.berlin.de/polizei/service/versammlungsbehoerde/versammlungen-aufzuege/
END:VEVENT
END:VCALENDAR