BEGIN:VCALENDAR
VERSION:2.0
PRODID:Demos (https://demonstrations.org)
BEGIN:VEVENT
CLASS:PUBLIC
DTSTAMP:20260421T000534Z
DESCRIPTION:Streikposten Tarifbewegung Vivantes Tochterunternehmen: TVÖD für alle an der Spree
DTEND:20260422T130000Z
GEO:52.524523;13.440629
LAST-MODIFIED:20260421T000534Z
LOCATION:Landsberger Allee 49
ORGANIZER;CN=Versammlungsbehörde Berlin:mailto:None
DTSTART:20260422T060000Z
SUMMARY:Streikposten Tarifbewegung Vivantes Tochterunternehmen: TVÖD für alle an der Spree
TRANSP:OPAQUE
UID:00000000-0000-0000-0000-00000000e0be
URL:https://www.berlin.de/polizei/service/versammlungsbehoerde/versammlungen-aufzuege/
END:VEVENT
END:VCALENDAR