BEGIN:VCALENDAR
VERSION:2.0
PRODID:Demos (https://demonstrations.org)
BEGIN:VEVENT
CLASS:PUBLIC
DTSTAMP:20260421T000532Z
DESCRIPTION:Song and talking about God
DTEND:20260421T180000Z
GEO:52.509313;13.345464
LAST-MODIFIED:20260421T000532Z
LOCATION:Hardenbergplatz 8
ORGANIZER;CN=Versammlungsbehörde Berlin:mailto:None
DTSTART:20260421T150000Z
SUMMARY:Song and talking about God
TRANSP:OPAQUE
UID:00000000-0000-0000-0000-00000000e0bd
URL:https://www.berlin.de/polizei/service/versammlungsbehoerde/versammlungen-aufzuege/
END:VEVENT
END:VCALENDAR