BEGIN:VCALENDAR
VERSION:2.0
PRODID:Demos (https://demonstrations.org)
BEGIN:VEVENT
CLASS:PUBLIC
DTSTAMP:20260420T182505Z
DESCRIPTION:"sichtbares Zeichen für Demokratie"
DTEND:20260424T173000Z
GEO:54.095188;12.069387
LAST-MODIFIED:20260420T182505Z
LOCATION:südseitige öffentliche Fahrbahn-Fläche der Bonhoefferstraße im Bereich der Brücke über die Bundesstraße 103
ORGANIZER;CN=Rathaus / Versammlungsbehörde Rostock:mailto:None
DTSTART:20260424T150000Z
SUMMARY:"sichtbares Zeichen für Demokratie"
TRANSP:OPAQUE
UID:00000000-0000-0000-0000-00000000e0ba
URL:https://rathaus.rostock.de/de/service/aemter/stadtamt/versammlungen/325429
END:VEVENT
END:VCALENDAR