BEGIN:VCALENDAR
VERSION:2.0
PRODID:Demos (https://demonstrations.org)
BEGIN:VEVENT
CLASS:PUBLIC
DTSTAMP:20260420T120756Z
DESCRIPTION:Solidarisch gegen Antisemitismus. Mahnwache zum Schutz jüdischen Lebens
DTEND:20260424T200000Z
GEO:52.496023;13.416844
LAST-MODIFIED:20260420T120756Z
LOCATION:Fraenkelufer 10
ORGANIZER;CN=Versammlungsbehörde Berlin:mailto:None
DTSTART:20260424T183000Z
SUMMARY:Solidarisch gegen Antisemitismus. Mahnwache zum Schutz jüdischen Lebens
TRANSP:OPAQUE
UID:00000000-0000-0000-0000-00000000e048
URL:https://www.berlin.de/polizei/service/versammlungsbehoerde/versammlungen-aufzuege/
END:VEVENT
END:VCALENDAR