BEGIN:VCALENDAR
VERSION:2.0
PRODID:Demos (https://demonstrations.org)
BEGIN:VEVENT
CLASS:PUBLIC
DTSTAMP:20260420T120755Z
DESCRIPTION:Hissen der Fahne Lesbische Sichtbarkeit
DTEND:20260424T154500Z
GEO:52.589016;13.324036
LAST-MODIFIED:20260420T120755Z
LOCATION:Eichborndamm 215
ORGANIZER;CN=Versammlungsbehörde Berlin:mailto:None
DTSTART:20260424T140000Z
SUMMARY:Hissen der Fahne Lesbische Sichtbarkeit
TRANSP:OPAQUE
UID:00000000-0000-0000-0000-00000000e047
URL:https://www.berlin.de/polizei/service/versammlungsbehoerde/versammlungen-aufzuege/
END:VEVENT
END:VCALENDAR