BEGIN:VCALENDAR
VERSION:2.0
PRODID:Demos (https://demonstrations.org)
BEGIN:VEVENT
CLASS:PUBLIC
DTSTAMP:20260420T120755Z
DESCRIPTION:Seit vielen Jahren werden Menschen mit Zersetzungstechniken wie organisiertem Stalking terrorisiert. Weltweit werden unmenschliche Maßnahmen gegen unschuldige Bürger angewendet...Deshalb fordern wir einen sofortigen Stopp aller Zersetzungsmaßnah- men in Deutschland\, einschließlich organisi- ertem Stalking und illegalen Experimenten mit Neurowaffen und elektromagnetischen Waffen gegen unschuldige Zivilisten.
DTEND:20260424T150000Z
GEO:52.492215;13.456226
LAST-MODIFIED:20260420T120755Z
LOCATION:Am Treptower Park 5-8 | - zeitweise mit dem Banner an die Ecke Elsenstraße/ Am Treptower Park
ORGANIZER;CN=Versammlungsbehörde Berlin:mailto:None
DTSTART:20260424T110000Z
SUMMARY:Seit vielen Jahren werden Menschen mit Zersetzungstechniken wie organisiertem Stalking terrorisiert.
TRANSP:OPAQUE
UID:00000000-0000-0000-0000-00000000e046
URL:https://www.berlin.de/polizei/service/versammlungsbehoerde/versammlungen-aufzuege/
END:VEVENT
END:VCALENDAR