BEGIN:VCALENDAR
VERSION:2.0
PRODID:Demos (https://demonstrations.org)
BEGIN:VEVENT
CLASS:PUBLIC
DTSTAMP:20260420T120754Z
DESCRIPTION:Sanktionsfreie Straßenmusik in Berlin
DTEND:20260423T220000Z
GEO:52.521506;13.412381
LAST-MODIFIED:20260420T120754Z
LOCATION:Alexanderplatz 1
ORGANIZER;CN=Versammlungsbehörde Berlin:mailto:None
DTSTART:20260423T150000Z
SUMMARY:Sanktionsfreie Straßenmusik in Berlin
TRANSP:OPAQUE
UID:00000000-0000-0000-0000-00000000e044
URL:https://www.berlin.de/polizei/service/versammlungsbehoerde/versammlungen-aufzuege/
END:VEVENT
END:VCALENDAR