BEGIN:VCALENDAR
VERSION:2.0
PRODID:Demos (https://demonstrations.org)
BEGIN:VEVENT
CLASS:PUBLIC
DTSTAMP:20260420T120753Z
DESCRIPTION:Pahlavi not welcome! Hände weg von Iran! Gegen US-Deutschen Regime Change!
DTEND:20260423T180000Z
GEO:52.516270;13.377703
LAST-MODIFIED:20260420T120753Z
LOCATION:Pariser Platz 1
ORGANIZER;CN=Versammlungsbehörde Berlin:mailto:None
DTSTART:20260423T140000Z
SUMMARY:Pahlavi not welcome! Hände weg von Iran! Gegen US-Deutschen Regime Change!
TRANSP:OPAQUE
UID:00000000-0000-0000-0000-00000000e043
URL:https://www.berlin.de/polizei/service/versammlungsbehoerde/versammlungen-aufzuege/
END:VEVENT
END:VCALENDAR