BEGIN:VCALENDAR
VERSION:2.0
PRODID:Demos (https://demonstrations.org)
BEGIN:VEVENT
CLASS:PUBLIC
DTSTAMP:20260420T120753Z
DESCRIPTION:Unterstützung der iranischen Revolution anlässlich der Reise von Kronprinz Reza Pahlavi nach Berlin
DTEND:20260423T180000Z
GEO:52.519190;13.376109
LAST-MODIFIED:20260420T120753Z
LOCATION:Paul-Löbe-Allee 1
ORGANIZER;CN=Versammlungsbehörde Berlin:mailto:None
DTSTART:20260423T120000Z
SUMMARY:Unterstützung der iranischen Revolution anlässlich der Reise von Kronprinz Reza Pahlavi nach Berlin
TRANSP:OPAQUE
UID:00000000-0000-0000-0000-00000000e042
URL:https://www.berlin.de/polizei/service/versammlungsbehoerde/versammlungen-aufzuege/
END:VEVENT
END:VCALENDAR