BEGIN:VCALENDAR
VERSION:2.0
PRODID:Demos (https://demonstrations.org)
BEGIN:VEVENT
CLASS:PUBLIC
DTSTAMP:20260420T120752Z
DESCRIPTION:Solidarität mit unseren Mitschülern
DTEND:20260422T130000Z
GEO:52.509887;13.320143
LAST-MODIFIED:20260420T120752Z
LOCATION:Goethestr. 8
ORGANIZER;CN=Versammlungsbehörde Berlin:mailto:None
DTSTART:20260422T110000Z
SUMMARY:Solidarität mit unseren Mitschülern
TRANSP:OPAQUE
UID:00000000-0000-0000-0000-00000000e03f
URL:https://www.berlin.de/polizei/service/versammlungsbehoerde/versammlungen-aufzuege/
END:VEVENT
END:VCALENDAR