BEGIN:VCALENDAR
VERSION:2.0
PRODID:Demos (https://demonstrations.org)
BEGIN:VEVENT
CLASS:PUBLIC
DTSTAMP:20260419T000430Z
DESCRIPTION:Stoppt Hinrichtungen im Iran / Solidarität mit den Bürgerprotesten im Iran (vom 20.04. bis 24.04.2026 - täglich)
DTEND:20260424T180000Z
GEO:52.520148;13.374800
LAST-MODIFIED:20260419T000430Z
LOCATION:Konrad-Adenauer-Str. 1
ORGANIZER;CN=Versammlungsbehörde Berlin:mailto:None
DTSTART:20260424T090000Z
SUMMARY:Stoppt Hinrichtungen im Iran / Solidarität mit den Bürgerprotesten im Iran (vom 20.04. bis 24.04.202
TRANSP:OPAQUE
UID:00000000-0000-0000-0000-00000000e036
URL:https://www.berlin.de/polizei/service/versammlungsbehoerde/versammlungen-aufzuege/
END:VEVENT
END:VCALENDAR