BEGIN:VCALENDAR
VERSION:2.0
PRODID:Demos (https://demonstrations.org)
BEGIN:VEVENT
CLASS:PUBLIC
DTSTAMP:20260418T000429Z
DESCRIPTION:Sichere Schulwege für Alle - Selbst und Sicher auf dem Fahrrad zur Schule
DTEND:20260424T080000Z
GEO:52.516266;13.377775
LAST-MODIFIED:20260418T000429Z
LOCATION:Oberbaumbrücke/Mühlenstraße - Oberbaumbrücke - Oberbaumstr. - Köpenicker Str. - Eisenbahnstr. - Lausitzer Platz (ZK)\, Waldemarstr. - Mariannenplatz - Mariannenstr. - Rio-Reiser-Platz - Oranienstr. - Moritzplatz - Prinzenstr. - Ritterstr. - Ritterstr. 78
ORGANIZER;CN=Versammlungsbehörde Berlin:mailto:None
DTSTART:20260424T072000Z
SUMMARY:Sichere Schulwege für Alle - Selbst und Sicher auf dem Fahrrad zur Schule
TRANSP:OPAQUE
UID:00000000-0000-0000-0000-00000000e02a
URL:https://www.berlin.de/polizei/service/versammlungsbehoerde/versammlungen-aufzuege/
END:VEVENT
END:VCALENDAR