BEGIN:VCALENDAR
VERSION:2.0
PRODID:Demos (https://demonstrations.org)
BEGIN:VEVENT
CLASS:PUBLIC
DTSTAMP:20260417T120445Z
DESCRIPTION:SOLIDARISCH GEGEN ANTISEMITISMUS
DTEND:20260424T235900Z
GEO:52.535340;13.398183
LAST-MODIFIED:20260417T120445Z
LOCATION:Brunnenstr. 33
ORGANIZER;CN=Versammlungsbehörde Berlin:mailto:None
DTSTART:20260424T173000Z
SUMMARY:SOLIDARISCH GEGEN ANTISEMITISMUS
TRANSP:OPAQUE
UID:00000000-0000-0000-0000-00000000e01f
URL:https://www.berlin.de/polizei/service/versammlungsbehoerde/versammlungen-aufzuege/
END:VEVENT
END:VCALENDAR