BEGIN:VCALENDAR
VERSION:2.0
PRODID:Demos (https://demonstrations.org)
BEGIN:VEVENT
CLASS:PUBLIC
DTSTAMP:20260417T120445Z
DESCRIPTION:free the ulm 5
DTEND:20260423T210000Z
GEO:52.501847;13.414754
LAST-MODIFIED:20260417T120445Z
LOCATION:Oranienplatz
ORGANIZER;CN=Versammlungsbehörde Berlin:mailto:None
DTSTART:20260423T183000Z
SUMMARY:free the ulm 5
TRANSP:OPAQUE
UID:00000000-0000-0000-0000-00000000e01e
URL:https://www.berlin.de/polizei/service/versammlungsbehoerde/versammlungen-aufzuege/
END:VEVENT
END:VCALENDAR