BEGIN:VCALENDAR
VERSION:2.0
PRODID:Demos (https://demonstrations.org)
BEGIN:VEVENT
CLASS:PUBLIC
DTSTAMP:20260417T120442Z
DESCRIPTION:Streikposten Tarifbewegung Vivantes Tochterunternehmen: TVÖD für alle an der Spree
DTEND:20260420T140000Z
GEO:52.524523;13.440629
LAST-MODIFIED:20260417T120442Z
LOCATION:Landsberger Allee 49
ORGANIZER;CN=Versammlungsbehörde Berlin:mailto:None
DTSTART:20260420T050000Z
SUMMARY:Streikposten Tarifbewegung Vivantes Tochterunternehmen: TVÖD für alle an der Spree
TRANSP:OPAQUE
UID:00000000-0000-0000-0000-00000000e01d
URL:https://www.berlin.de/polizei/service/versammlungsbehoerde/versammlungen-aufzuege/
END:VEVENT
END:VCALENDAR