BEGIN:VCALENDAR
VERSION:2.0
PRODID:Demos (https://demonstrations.org)
BEGIN:VEVENT
CLASS:PUBLIC
DTSTAMP:20260416T120423Z
DESCRIPTION:Deutsche Welle stärken! Für Dialog und Medienfreiheit – weltweit!
DTEND:20260422T163000Z
GEO:52.516266;13.377775
LAST-MODIFIED:20260416T120423Z
LOCATION:Alexanderplatz/Dircksenstr. - Rathausstr. - Spandauer Str. - Karl-Liebknecht-Str. - Unter den Linden - Pariser Platz (EP)
ORGANIZER;CN=Versammlungsbehörde Berlin:mailto:None
DTSTART:20260422T140000Z
SUMMARY:Deutsche Welle stärken! Für Dialog und Medienfreiheit – weltweit!
TRANSP:OPAQUE
UID:00000000-0000-0000-0000-00000000e007
URL:https://www.berlin.de/polizei/service/versammlungsbehoerde/versammlungen-aufzuege/
END:VEVENT
END:VCALENDAR