BEGIN:VCALENDAR
VERSION:2.0
PRODID:Demos (https://demonstrations.org)
BEGIN:VEVENT
CLASS:PUBLIC
DTSTAMP:20260416T120420Z
DESCRIPTION:Kriege\, ein e unsichere Wirtschaft\, politische Unruhe und Umweltsorge: ist es möglich in einer Welt im Chaos inneren Frieden zu finden?
DTEND:20260419T173000Z
GEO:52.506306;13.331929
LAST-MODIFIED:20260416T120420Z
LOCATION:Breitscheidplatz
ORGANIZER;CN=Versammlungsbehörde Berlin:mailto:None
DTSTART:20260419T153000Z
SUMMARY:Kriege\, ein e unsichere Wirtschaft\, politische Unruhe und Umweltsorge: ist es möglich in einer Welt 
TRANSP:OPAQUE
UID:00000000-0000-0000-0000-00000000e006
URL:https://www.berlin.de/polizei/service/versammlungsbehoerde/versammlungen-aufzuege/
END:VEVENT
END:VCALENDAR