BEGIN:VCALENDAR
VERSION:2.0
PRODID:Demos (https://demonstrations.org)
BEGIN:VEVENT
CLASS:PUBLIC
DTSTAMP:20260416T061011Z
DESCRIPTION:Umweltschutz\, Kunstinstallation von Kindern in 17 deutschen Städten am Earth Day
DTEND:20260422T133000Z
GEO:51.051310;13.740711
LAST-MODIFIED:20260416T061011Z
LOCATION:Neumarkt
ORGANIZER;CN=Veranstaltungs- und Versammlungsbehörde Dresden:mailto:None
DTSTART:20260422T123000Z
SUMMARY:Umweltschutz\, Kunstinstallation von Kindern in 17 deutschen Städten am Earth Day
TRANSP:OPAQUE
UID:00000000-0000-0000-0000-00000000e002
URL:https://www.dresden.de/de/rathaus/dienstleistungen/versammlungsuebersicht.php
END:VEVENT
END:VCALENDAR