BEGIN:VCALENDAR
VERSION:2.0
PRODID:Demos (https://demonstrations.org)
BEGIN:VEVENT
CLASS:PUBLIC
DTSTAMP:20260416T061010Z
DESCRIPTION:Endstation Links
DTEND:20260420T103000Z
GEO:51.088787;13.740092
LAST-MODIFIED:20260416T061010Z
LOCATION:Hammerweg
ORGANIZER;CN=Veranstaltungs- und Versammlungsbehörde Dresden:mailto:None
DTSTART:20260420T093000Z
SUMMARY:Endstation Links
TRANSP:OPAQUE
UID:00000000-0000-0000-0000-00000000e001
URL:https://www.dresden.de/de/rathaus/dienstleistungen/versammlungsuebersicht.php
END:VEVENT
END:VCALENDAR