BEGIN:VCALENDAR
VERSION:2.0
PRODID:Demos (https://demonstrations.org)
BEGIN:VEVENT
CLASS:PUBLIC
DTSTAMP:20260416T005808Z
DESCRIPTION:Demokratischer Staat statt ewiger Gewalt - mit Saman Hasan - Palästina Woche
DTEND:20260423T203000Z
GEO:53.075820;8.807165
LAST-MODIFIED:20260416T005808Z
LOCATION:Bremen
ORGANIZER;CN=Palästina-Solidarität:mailto:None
DTSTART:20260423T183000Z
SUMMARY:Demokratischer Staat statt ewiger Gewalt - mit Saman Hasan - Palästina Woche
TRANSP:OPAQUE
UID:00000000-0000-0000-0000-00000000dfff
URL:http://palaestina-solidaritaet.de/mein-kalender/?mc_id=5638
END:VEVENT
END:VCALENDAR