BEGIN:VCALENDAR
VERSION:2.0
PRODID:Demos (https://demonstrations.org)
BEGIN:VEVENT
CLASS:PUBLIC
DTSTAMP:20260416T000441Z
DESCRIPTION:Globaler Klimastreik 24.04.2026
DTEND:20260424T173000Z
GEO:52.516266;13.377775
LAST-MODIFIED:20260416T000441Z
LOCATION:alt: Stresemannstr./Wilhelmstr. (AK) - Stresemannstr. - Potsdamer Platz - Potsdamer Str. - Reichpietschufer - Von-der-Heydt-Str. - Von-der-Heydt-Str./Cornel- iusstr.(EK) neu: Von-der-Heydt-Str./Klinge- lhöferstr./Corneliusstr. (AK) - Von-der-Heydt-Str. - Reichpietschufer - Potsdamer Str. - Stresemannstr. - Stresemannstr./Wilhelmstr. (EK)
ORGANIZER;CN=Versammlungsbehörde Berlin:mailto:None
DTSTART:20260424T150000Z
SUMMARY:Globaler Klimastreik 24.04.2026
TRANSP:OPAQUE
UID:00000000-0000-0000-0000-00000000dff3
URL:https://www.berlin.de/polizei/service/versammlungsbehoerde/versammlungen-aufzuege/
END:VEVENT
END:VCALENDAR