BEGIN:VCALENDAR
VERSION:2.0
PRODID:Demos (https://demonstrations.org)
BEGIN:VEVENT
CLASS:PUBLIC
DTSTAMP:20260416T000438Z
DESCRIPTION:- HANDS OFF LEBANON - Millionen vertrieben\, Tausende ermordet - Deutsche Waffenexporte nach Israel stoppen!
DTEND:20260419T203000Z
GEO:52.593043;13.324406
LAST-MODIFIED:20260419T111642Z
LOCATION:ALT: U-Bhf Turmstr. - Turmstr. - Rathenower Str. - Alt-Moabit - Moltkebrücke - Willy-Brandt-Str. - Otto-von-Bismarck-Allee - Annemarie-Renger-Str. - Paul-Löbe- Allee - Heinrich-von Gagern-Str. - Yitzhak-Rabin-Str. - Straße d. 17. Juli - Platz des 18. März NEU: U-Bhf Turmstr. - Turmstr. - Rathenower Str. - Alt-Moabit - Moltkebrücke - Willy-Brandt-Str. - Otto-von-Bismarck-Allee - Annemarie-Renger-Str. - Paul-Löbe- Allee - Heinrich-von Gagern-Str. - Platz der Republik
ORGANIZER;CN=Versammlungsbehörde Berlin:mailto:None
DTSTART:20260419T143000Z
SUMMARY:- HANDS OFF LEBANON - Millionen vertrieben\, Tausende ermordet - Deutsche Waffenexporte nach Israel s
TRANSP:OPAQUE
UID:00000000-0000-0000-0000-00000000dff2
URL:https://www.berlin.de/polizei/service/versammlungsbehoerde/versammlungen-aufzuege/
END:VEVENT
END:VCALENDAR