BEGIN:VCALENDAR
VERSION:2.0
PRODID:Demos (https://demonstrations.org)
BEGIN:VEVENT
CLASS:PUBLIC
DTSTAMP:20260415T183335Z
DESCRIPTION:Darbietungen von Kindern und Jugendlichen zum Thema Frieden
DTEND:20260422T160000Z
GEO:50.979814;11.325778
LAST-MODIFIED:20260415T183335Z
LOCATION:Theaterplatz
ORGANIZER;CN=Sadtverwaltung / Versammlungsbehörde Weimar:mailto:None
DTSTART:20260422T150000Z
SUMMARY:Darbietungen von Kindern und Jugendlichen zum Thema Frieden
TRANSP:OPAQUE
UID:00000000-0000-0000-0000-00000000dfec
URL:https://stadt.weimar.de/de/versammlungen/event/90731/darbietungen-von-kindern-und-jugendlichen-zum-thema-frieden-22-04-2026.html
END:VEVENT
END:VCALENDAR