BEGIN:VCALENDAR
VERSION:2.0
PRODID:Demos (https://demonstrations.org)
BEGIN:VEVENT
CLASS:PUBLIC
DTSTAMP:20260415T183333Z
DESCRIPTION:Für Frieden und Solidarität mit der Ukraine
DTEND:20260419T170000Z
GEO:50.979814;11.325778
LAST-MODIFIED:20260415T183333Z
LOCATION:Theaterplatz
ORGANIZER;CN=Sadtverwaltung / Versammlungsbehörde Weimar:mailto:None
DTSTART:20260419T150000Z
SUMMARY:Für Frieden und Solidarität mit der Ukraine
TRANSP:OPAQUE
UID:00000000-0000-0000-0000-00000000dfe8
URL:https://stadt.weimar.de/de/versammlungen/event/90723/fuer-frieden-und-solidaritaet-mit-der-ukraine-19-04-2026.html
END:VEVENT
END:VCALENDAR