BEGIN:VCALENDAR
VERSION:2.0
PRODID:Demos (https://demonstrations.org)
BEGIN:VEVENT
CLASS:PUBLIC
DTSTAMP:20260415T122508Z
DESCRIPTION:Frieden
DTEND:20260420T210000Z
GEO:54.078056;12.130833
LAST-MODIFIED:20260415T122508Z
LOCATION:öffentliche Gehwegfläche Kröpeliner Tor Vorplatz
ORGANIZER;CN=Rathaus / Versammlungsbehörde Rostock:mailto:None
DTSTART:20260420T180000Z
SUMMARY:Frieden
TRANSP:OPAQUE
UID:00000000-0000-0000-0000-00000000dfe6
URL:https://rathaus.rostock.de/de/service/aemter/stadtamt/versammlungen/325429
END:VEVENT
END:VCALENDAR