BEGIN:VCALENDAR
VERSION:2.0
PRODID:Demos (https://demonstrations.org)
BEGIN:VEVENT
CLASS:PUBLIC
DTSTAMP:20260415T120420Z
DESCRIPTION:Erneuerbar statt Erpressbar! Klimaschutz jetzt!
DTEND:20260421T120000Z
GEO:52.536973;13.341749
LAST-MODIFIED:20260415T120420Z
LOCATION:Westhafenstr. 1
ORGANIZER;CN=Versammlungsbehörde Berlin:mailto:None
DTSTART:20260421T080000Z
SUMMARY:Erneuerbar statt Erpressbar! Klimaschutz jetzt!
TRANSP:OPAQUE
UID:00000000-0000-0000-0000-00000000dfd8
URL:https://www.berlin.de/polizei/service/versammlungsbehoerde/versammlungen-aufzuege/
END:VEVENT
END:VCALENDAR