BEGIN:VCALENDAR
VERSION:2.0
PRODID:Demos (https://demonstrations.org)
BEGIN:VEVENT
CLASS:PUBLIC
DTSTAMP:20260415T120419Z
DESCRIPTION:Animal Rights Square: Video-Aktion zur Aufklärung über die Tierindustrie
DTEND:20260419T160000Z
GEO:52.516368;13.378880
LAST-MODIFIED:20260418T204022Z
LOCATION:Pariser Platz
ORGANIZER;CN=Versammlungsbehörde Berlin:mailto:None
DTSTART:20260419T130000Z
SUMMARY:Animal Rights Square: Video-Aktion zur Aufklärung über die Tierindustrie
TRANSP:OPAQUE
UID:00000000-0000-0000-0000-00000000dfd6
URL:https://www.berlin.de/polizei/service/versammlungsbehoerde/versammlungen-aufzuege/
END:VEVENT
END:VCALENDAR