BEGIN:VCALENDAR
VERSION:2.0
PRODID:Demos (https://demonstrations.org)
BEGIN:VEVENT
CLASS:PUBLIC
DTSTAMP:20260415T000519Z
DESCRIPTION:TEGEL steht AUF - für die bedingungslose Einhaltung aller Grundrechte\, - für sofortigen Waffenstillstand und Diplomatie statt Waffenlieferungen und Kriegstreiberei\, - für das Grundrecht auf Barzahlung und das Recht auf ein analoges Leben\, - für die Bewahrung des Mittelstands vor Zerschlagung und Deindustriealisierung\, - für eine Politik frei von Lobbyismus und Korruption\, - für die vollständige und unabhängige Aufarbeitung der Corona-Maßnahmen - Für echte Mitbestimmung der Bevölkerung und eine rechtlich konsequente Politikerhaftung (vom 02.03. bis 12.10.2026 - jeweils Mo.)
DTEND:20260420T203000Z
GEO:52.525250;13.343749
LAST-MODIFIED:20260415T000519Z
LOCATION:Alt-Tegel 2 (Am Schinkelbrunnen) - Bernstorffstr. - Buddestr. - Gorkistr. (Fußgängerzone) - Berliner Str. - Schlieperstr. - Buddestr. - Veitstr. - Berliner Str. (bis Am Borsigturm) - Berliner Str. (zurück) - Schlieperstr. - Treskowstr. - Brunowstr. - Berliner Str. - Alt-Tegel 2 (Am Schinkelbrunnen)
ORGANIZER;CN=Versammlungsbehörde Berlin:mailto:None
DTSTART:20260420T180000Z
SUMMARY:TEGEL steht AUF - für die bedingungslose Einhaltung aller Grundrechte\, - für sofortigen Waffenstills
TRANSP:OPAQUE
UID:00000000-0000-0000-0000-00000000dfab
URL:https://www.berlin.de/polizei/service/versammlungsbehoerde/versammlungen-aufzuege/
END:VEVENT
END:VCALENDAR