BEGIN:VCALENDAR
VERSION:2.0
PRODID:Demos (https://demonstrations.org)
BEGIN:VEVENT
CLASS:PUBLIC
DTSTAMP:20260414T120411Z
DESCRIPTION:Freiheit für Iran
DTEND:20260423T150000Z
GEO:52.520148;13.374800
LAST-MODIFIED:20260414T120411Z
LOCATION:Konrad-Adenauer-Str. 1
ORGANIZER;CN=Versammlungsbehörde Berlin:mailto:None
DTSTART:20260423T080000Z
SUMMARY:Freiheit für Iran
TRANSP:OPAQUE
UID:00000000-0000-0000-0000-00000000df98
URL:https://www.berlin.de/polizei/service/versammlungsbehoerde/versammlungen-aufzuege/
END:VEVENT
END:VCALENDAR