BEGIN:VCALENDAR
VERSION:2.0
PRODID:Demos (https://demonstrations.org)
BEGIN:VEVENT
CLASS:PUBLIC
DTSTAMP:20260414T120410Z
DESCRIPTION:Lasst die Bäume in der Ollenhauerstraße stehen! Kein Hochbordradweg mit Baum-Kahlschlag!
DTEND:20260421T193000Z
GEO:52.572755;13.330322
LAST-MODIFIED:20260414T120410Z
LOCATION:Ollenhauerstr. 97 (AK-Vorplatz Staatl. Münze) - Ollenhauerstr. - Kurt-Schumacher-Damm - Wende Höhe Kapweg - zurück Ollenhauerstr. (ZK-Ollenhauerstr. 9-13 in Höhe Motor Company) - Oranienburger Str./Blunckstr. - Wende und zurück Ollenhauerstr. - Kurt-Schumacher-Platz/Sch- arnweberstr. (EK-Vorplatz)
ORGANIZER;CN=Versammlungsbehörde Berlin:mailto:None
DTSTART:20260421T180000Z
SUMMARY:Lasst die Bäume in der Ollenhauerstraße stehen! Kein Hochbordradweg mit Baum-Kahlschlag!
TRANSP:OPAQUE
UID:00000000-0000-0000-0000-00000000df97
URL:https://www.berlin.de/polizei/service/versammlungsbehoerde/versammlungen-aufzuege/
END:VEVENT
END:VCALENDAR