BEGIN:VCALENDAR
VERSION:2.0
PRODID:Demos (https://demonstrations.org)
BEGIN:VEVENT
CLASS:PUBLIC
DTSTAMP:20260414T120407Z
DESCRIPTION:Gemeinsam sicher auf der Kantstraße! Für sicheres Radfahren in Charlottenburg und ganz Berlin!
DTEND:20260420T190000Z
GEO:52.516266;13.377775
LAST-MODIFIED:20260414T120407Z
LOCATION:NEU: Savignyplatz/Kants- tr. (AK-Nordseite)- Kantstr. - Kehre Kaiser-Friedrich-Str. - Kantstr. - Kehre Joachimsthaler Str. - Kantstr. - Kehre Kaiser-Friedrich-Str. - Kantstr. - Kehre Joachimsthaler Str. - Kantstr. - Kehre Kaiser-Friedrich-Str. - Kantstr. - Kehre Joachimsthaler Str. - Kantstr. - Savignyplatz - Savignyplatz (EK-Nordseite\, westlich\, Savignyplatz 3-4) ALT: Savignyp- latz (Nordseite) - Kantstr. - Neue Kantstr. - Dernburgstr. - Neue Kantstr. - Kantstr. - Joachimsthaler Str. - Kantstr. - Kaiser-Friedrich-Str. - Kantstr. - Joachimsthaler Str. - Kantstr. - Savignyplatz -Savignyplatz 3-4
ORGANIZER;CN=Versammlungsbehörde Berlin:mailto:None
DTSTART:20260420T173000Z
SUMMARY:Gemeinsam sicher auf der Kantstraße! Für sicheres Radfahren in Charlottenburg und ganz Berlin!
TRANSP:OPAQUE
UID:00000000-0000-0000-0000-00000000df96
URL:https://www.berlin.de/polizei/service/versammlungsbehoerde/versammlungen-aufzuege/
END:VEVENT
END:VCALENDAR