BEGIN:VCALENDAR
VERSION:2.0
PRODID:Demos (https://demonstrations.org)
BEGIN:VEVENT
CLASS:PUBLIC
DTSTAMP:20260414T000429Z
DESCRIPTION:Schützen wir gemeinsam das Russische Haus der Wissenschaft und Kultur vor jeglicher Politisierung
DTEND:20260422T200000Z
GEO:52.513415;13.388487
LAST-MODIFIED:20260414T000429Z
LOCATION:Friedrichstr. 176-179
ORGANIZER;CN=Versammlungsbehörde Berlin:mailto:None
DTSTART:20260422T180000Z
SUMMARY:Schützen wir gemeinsam das Russische Haus der Wissenschaft und Kultur vor jeglicher Politisierung
TRANSP:OPAQUE
UID:00000000-0000-0000-0000-00000000df8c
URL:https://www.berlin.de/polizei/service/versammlungsbehoerde/versammlungen-aufzuege/
END:VEVENT
END:VCALENDAR