BEGIN:VCALENDAR
VERSION:2.0
PRODID:Demos (https://demonstrations.org)
BEGIN:VEVENT
CLASS:PUBLIC
DTSTAMP:20260414T000426Z
DESCRIPTION:Übergabe von Fotos und Unterschriften an den Senator
DTEND:20260420T111500Z
GEO:52.492650;13.315011
LAST-MODIFIED:20260414T000426Z
LOCATION:Württembergische Str. 6
ORGANIZER;CN=Versammlungsbehörde Berlin:mailto:None
DTSTART:20260420T110000Z
SUMMARY:Übergabe von Fotos und Unterschriften an den Senator
TRANSP:OPAQUE
UID:00000000-0000-0000-0000-00000000df8b
URL:https://www.berlin.de/polizei/service/versammlungsbehoerde/versammlungen-aufzuege/
END:VEVENT
END:VCALENDAR