BEGIN:VCALENDAR
VERSION:2.0
PRODID:Demos (https://demonstrations.org)
BEGIN:VEVENT
CLASS:PUBLIC
DTSTAMP:20260413T120418Z
DESCRIPTION:Ende der Mullah-Diktatur – Solidarität mit der „Löwe und Sonne“-Revolution und Unterstützung für den demokratischen Übergang unter Führung von Kronprinz Reza Pahlavi
DTEND:20260423T170000Z
GEO:52.518594;13.376282
LAST-MODIFIED:20260413T120418Z
LOCATION:Platz der Republik 1
ORGANIZER;CN=Versammlungsbehörde Berlin:mailto:None
DTSTART:20260423T150000Z
SUMMARY:Ende der Mullah-Diktatur – Solidarität mit der „Löwe und Sonne“-Revolution und Unterstützung für den
TRANSP:OPAQUE
UID:00000000-0000-0000-0000-00000000df79
URL:https://www.berlin.de/polizei/service/versammlungsbehoerde/versammlungen-aufzuege/
END:VEVENT
END:VCALENDAR