BEGIN:VCALENDAR
VERSION:2.0
PRODID:Demos (https://demonstrations.org)
BEGIN:VEVENT
CLASS:PUBLIC
DTSTAMP:20260413T120418Z
DESCRIPTION:Solidarität mit Palästina. Solidarität mit den palästinensischen Gefangenen. Keine Bevormundung Waffenlieferungen an Israel. Kriegsverbrecher vor Gericht
DTEND:20260422T163000Z
GEO:52.502031;13.343325
LAST-MODIFIED:20260413T120418Z
LOCATION:Wittenbergplatz
ORGANIZER;CN=Versammlungsbehörde Berlin:mailto:None
DTSTART:20260422T140000Z
SUMMARY:Solidarität mit Palästina. Solidarität mit den palästinensischen Gefangenen. Keine Bevormundung Waff
TRANSP:OPAQUE
UID:00000000-0000-0000-0000-00000000df78
URL:https://www.berlin.de/polizei/service/versammlungsbehoerde/versammlungen-aufzuege/
END:VEVENT
END:VCALENDAR