BEGIN:VCALENDAR
VERSION:2.0
PRODID:Demos (https://demonstrations.org)
BEGIN:VEVENT
CLASS:PUBLIC
DTSTAMP:20260413T120415Z
DESCRIPTION:In Anbetracht der derzeitigen Politik der Bundesregierung und speziell des Wirtschaftsministerium bezüglich Energie\, Rüstung\, mangelnder Besteuerung von Vermögen und Kürzungen im Sozialen Bereich planen wir eine symbolische Beerdigung von Lebensgrundlagen\, Zukunft und des guten Leben für alle vor dem Wirtschaftsministerium\, als Teil eines satirischem Straßentheater mit Tanz und Musik.
DTEND:20260421T123000Z
GEO:52.529129;13.375166
LAST-MODIFIED:20260413T120415Z
LOCATION:Scharnhorststr. 37
ORGANIZER;CN=Versammlungsbehörde Berlin:mailto:None
DTSTART:20260421T100000Z
SUMMARY:In Anbetracht der derzeitigen Politik der Bundesregierung und speziell des Wirtschaftsministerium be
TRANSP:OPAQUE
UID:00000000-0000-0000-0000-00000000df77
URL:https://www.berlin.de/polizei/service/versammlungsbehoerde/versammlungen-aufzuege/
END:VEVENT
END:VCALENDAR