BEGIN:VCALENDAR
VERSION:2.0
PRODID:Demos (https://demonstrations.org)
BEGIN:VEVENT
CLASS:PUBLIC
DTSTAMP:20260413T120415Z
DESCRIPTION:Gedenken an den 23. April (Tag der Souveränität in der Türkei). Protest gegen den geführten\, völkerrechtswidrigen Krieg gegen Iran
DTEND:20260419T150000Z
GEO:52.518594;13.376282
LAST-MODIFIED:20260418T203603Z
LOCATION:Platz der Republik 1
ORGANIZER;CN=Versammlungsbehörde Berlin:mailto:None
DTSTART:20260419T130000Z
SUMMARY:Gedenken an den 23. April (Tag der Souveränität in der Türkei). Protest gegen den geführten\, völkerr
TRANSP:OPAQUE
UID:00000000-0000-0000-0000-00000000df76
URL:https://www.berlin.de/polizei/service/versammlungsbehoerde/versammlungen-aufzuege/
END:VEVENT
END:VCALENDAR